Package: SplicingGraphs Version: 1.40.0 Command: /Library/Frameworks/R.framework/Resources/bin/R CMD check --install=check:SplicingGraphs.install-out.txt --library=/Library/Frameworks/R.framework/Resources/library --no-vignettes --timings SplicingGraphs_1.40.0.tar.gz StartedAt: 2023-10-16 07:31:52 -0400 (Mon, 16 Oct 2023) EndedAt: 2023-10-16 07:49:47 -0400 (Mon, 16 Oct 2023) EllapsedTime: 1074.8 seconds RetCode: 0 Status: WARNINGS CheckDir: SplicingGraphs.Rcheck Warnings: 3