Package: SplicingGraphs Version: 1.40.0 Command: /Library/Frameworks/R.framework/Resources/bin/R CMD build --keep-empty-dirs --no-resave-data SplicingGraphs StartedAt: 2023-10-15 21:36:59 -0400 (Sun, 15 Oct 2023) EndedAt: 2023-10-15 21:43:21 -0400 (Sun, 15 Oct 2023) EllapsedTime: 381.7 seconds RetCode: 0 Status: OK PackageFile: SplicingGraphs_1.40.0.tar.gz PackageFileSize: 46.1 MiB