Package: SplicingGraphs Version: 1.40.0 Command: rm -rf SplicingGraphs.buildbin-libdir && mkdir SplicingGraphs.buildbin-libdir && /Users/biocbuild/BBS/utils/build-universal.sh SplicingGraphs_1.40.0.tar.gz /Library/Frameworks/R.framework/Resources/bin/R SplicingGraphs.buildbin-libdir StartedAt: 2023-10-16 10:17:42 -0400 (Mon, 16 Oct 2023) EndedAt: 2023-10-16 10:20:11 -0400 (Mon, 16 Oct 2023) EllapsedTime: 148.9 seconds RetCode: 0 Status: OK PackageFile: SplicingGraphs_1.40.0.tgz PackageFileSize: 4.821 MiB