Package: SplicingFactory Version: 1.8.0 Command: F:\biocbuild\bbs-3.17-bioc\R\bin\R.exe CMD check --no-multiarch --install=check:SplicingFactory.install-out.txt --library=F:\biocbuild\bbs-3.17-bioc\R\library --no-vignettes --timings SplicingFactory_1.8.0.tar.gz StartedAt: 2023-10-16 07:13:26 -0400 (Mon, 16 Oct 2023) EndedAt: 2023-10-16 07:15:36 -0400 (Mon, 16 Oct 2023) EllapsedTime: 129.3 seconds RetCode: 0 Status: OK CheckDir: SplicingFactory.Rcheck Warnings: 0