Package: SplicingFactory Version: 1.8.0 Command: chmod a+r SplicingFactory -R && F:\biocbuild\bbs-3.17-bioc\R\bin\R.exe CMD build --keep-empty-dirs --no-resave-data SplicingFactory StartedAt: 2023-10-15 22:36:36 -0400 (Sun, 15 Oct 2023) EndedAt: 2023-10-15 22:37:11 -0400 (Sun, 15 Oct 2023) EllapsedTime: 35.2 seconds RetCode: 0 Status: OK PackageFile: SplicingFactory_1.8.0.tar.gz PackageFileSize: 429.7 KiB