Package: SplicingFactory Version: 1.8.0 Command: /home/biocbuild/bbs-3.17-bioc/R/bin/R CMD INSTALL SplicingFactory StartedAt: 2023-10-15 15:12:14 -0400 (Sun, 15 Oct 2023) EndedAt: 2023-10-15 15:12:33 -0400 (Sun, 15 Oct 2023) EllapsedTime: 18.6 seconds RetCode: 0 Status: OK