Package: SplicingFactory Version: 1.8.0 Command: /Library/Frameworks/R.framework/Resources/bin/R CMD check --install=check:SplicingFactory.install-out.txt --library=/Library/Frameworks/R.framework/Resources/library --no-vignettes --timings SplicingFactory_1.8.0.tar.gz StartedAt: 2023-10-16 07:31:48 -0400 (Mon, 16 Oct 2023) EndedAt: 2023-10-16 07:37:22 -0400 (Mon, 16 Oct 2023) EllapsedTime: 334.2 seconds RetCode: 0 Status: OK CheckDir: SplicingFactory.Rcheck Warnings: 0