Package: SplicingFactory Version: 1.8.0 Command: /Library/Frameworks/R.framework/Resources/bin/R CMD build --keep-empty-dirs --no-resave-data SplicingFactory StartedAt: 2023-10-15 21:36:59 -0400 (Sun, 15 Oct 2023) EndedAt: 2023-10-15 21:38:16 -0400 (Sun, 15 Oct 2023) EllapsedTime: 77.1 seconds RetCode: 0 Status: OK PackageFile: SplicingFactory_1.8.0.tar.gz PackageFileSize: 734.8 KiB