Package: SplicingFactory Version: 1.8.0 Command: rm -rf SplicingFactory.buildbin-libdir && mkdir SplicingFactory.buildbin-libdir && /Users/biocbuild/BBS/utils/build-universal.sh SplicingFactory_1.8.0.tar.gz /Library/Frameworks/R.framework/Resources/bin/R SplicingFactory.buildbin-libdir StartedAt: 2023-10-16 10:17:41 -0400 (Mon, 16 Oct 2023) EndedAt: 2023-10-16 10:18:44 -0400 (Mon, 16 Oct 2023) EllapsedTime: 62.7 seconds RetCode: 0 Status: OK PackageFile: SplicingFactory_1.8.0.tgz PackageFileSize: 770.1 KiB