Package: SpliceWiz Version: 1.2.3 Command: rm -rf SpliceWiz.buildbin-libdir && mkdir SpliceWiz.buildbin-libdir && F:\biocbuild\bbs-3.17-bioc\R\bin\R.exe CMD INSTALL --build --library=SpliceWiz.buildbin-libdir SpliceWiz_1.2.3.tar.gz StartedAt: 2023-10-16 09:35:50 -0400 (Mon, 16 Oct 2023) EndedAt: 2023-10-16 09:38:34 -0400 (Mon, 16 Oct 2023) EllapsedTime: 164.0 seconds RetCode: 0 Status: OK PackageFile: SpliceWiz_1.2.3.zip PackageFileSize: 5.454 MiB