Package: SpliceWiz Version: 1.2.3 Command: /Library/Frameworks/R.framework/Resources/bin/R CMD INSTALL SpliceWiz StartedAt: 2023-10-15 16:30:44 -0400 (Sun, 15 Oct 2023) EndedAt: 2023-10-15 16:36:31 -0400 (Sun, 15 Oct 2023) EllapsedTime: 346.7 seconds RetCode: 0 Status: OK