Package: SpliceWiz Version: 1.2.3 Command: /Library/Frameworks/R.framework/Resources/bin/R CMD check --install=check:SpliceWiz.install-out.txt --library=/Library/Frameworks/R.framework/Resources/library --no-vignettes --timings SpliceWiz_1.2.3.tar.gz StartedAt: 2023-10-16 07:30:53 -0400 (Mon, 16 Oct 2023) EndedAt: 2023-10-16 08:09:14 -0400 (Mon, 16 Oct 2023) EllapsedTime: 2300.4 seconds RetCode: 0 Status: OK CheckDir: SpliceWiz.Rcheck Warnings: 0