Package: SpliceWiz Version: 1.2.3 Command: rm -rf SpliceWiz.buildbin-libdir && mkdir SpliceWiz.buildbin-libdir && /Users/biocbuild/BBS/utils/build-universal.sh SpliceWiz_1.2.3.tar.gz /Library/Frameworks/R.framework/Resources/bin/R SpliceWiz.buildbin-libdir StartedAt: 2023-10-16 10:17:38 -0400 (Mon, 16 Oct 2023) EndedAt: 2023-10-16 10:24:22 -0400 (Mon, 16 Oct 2023) EllapsedTime: 403.9 seconds RetCode: 0 Status: OK PackageFile: SpliceWiz_1.2.3.tgz PackageFileSize: 5.512 MiB