Package: SpidermiR Version: 1.30.0 Command: /home/biocbuild/bbs-3.17-bioc/R/bin/R CMD build --keep-empty-dirs --no-resave-data SpidermiR StartedAt: 2023-10-15 18:38:59 -0400 (Sun, 15 Oct 2023) EndedAt: 2023-10-15 18:39:00 -0400 (Sun, 15 Oct 2023) EllapsedTime: 1.0 seconds RetCode: 0 Status: OK PackageFile: SpidermiR_1.30.0.tar.gz PackageFileSize: 8.438 KiB