Package: SpidermiR Version: 1.30.0 Command: /Library/Frameworks/R.framework/Resources/bin/R CMD check --install=check:SpidermiR.install-out.txt --library=/Library/Frameworks/R.framework/Resources/library --no-vignettes --timings SpidermiR_1.30.0.tar.gz StartedAt: 2023-10-16 07:29:21 -0400 (Mon, 16 Oct 2023) EndedAt: 2023-10-16 07:34:25 -0400 (Mon, 16 Oct 2023) EllapsedTime: 303.8 seconds RetCode: 0 Status: OK CheckDir: SpidermiR.Rcheck Warnings: 0