Package: SpectralTAD Version: 1.16.1 Command: /home/biocbuild/bbs-3.17-bioc/R/bin/R CMD check --install=check:SpectralTAD.install-out.txt --library=/home/biocbuild/bbs-3.17-bioc/R/site-library --timings SpectralTAD_1.16.1.tar.gz StartedAt: 2023-10-16 01:21:06 -0400 (Mon, 16 Oct 2023) EndedAt: 2023-10-16 01:24:44 -0400 (Mon, 16 Oct 2023) EllapsedTime: 218.0 seconds RetCode: 0 Status: OK CheckDir: SpectralTAD.Rcheck Warnings: 0