Package: Spectra Version: 1.10.3 Command: F:\biocbuild\bbs-3.17-bioc\R\bin\R.exe CMD check --no-multiarch --install=check:Spectra.install-out.txt --library=F:\biocbuild\bbs-3.17-bioc\R\library --no-vignettes --timings Spectra_1.10.3.tar.gz StartedAt: 2023-10-16 07:10:04 -0400 (Mon, 16 Oct 2023) EndedAt: 2023-10-16 07:17:52 -0400 (Mon, 16 Oct 2023) EllapsedTime: 467.8 seconds RetCode: 0 Status: OK CheckDir: Spectra.Rcheck Warnings: 0