Package: Spectra Version: 1.10.3 Command: /home/biocbuild/bbs-3.17-bioc/R/bin/R CMD check --install=check:Spectra.install-out.txt --library=/home/biocbuild/bbs-3.17-bioc/R/site-library --timings Spectra_1.10.3.tar.gz StartedAt: 2023-10-16 01:21:00 -0400 (Mon, 16 Oct 2023) EndedAt: 2023-10-16 01:26:29 -0400 (Mon, 16 Oct 2023) EllapsedTime: 328.3 seconds RetCode: 0 Status: OK CheckDir: Spectra.Rcheck Warnings: 0