Package: Spectra Version: 1.10.3 Command: /Library/Frameworks/R.framework/Resources/bin/R CMD build --keep-empty-dirs --no-resave-data Spectra StartedAt: 2023-10-15 21:34:57 -0400 (Sun, 15 Oct 2023) EndedAt: 2023-10-15 21:36:44 -0400 (Sun, 15 Oct 2023) EllapsedTime: 107.5 seconds RetCode: 0 Status: OK PackageFile: Spectra_1.10.3.tar.gz PackageFileSize: 1.168 MiB