Package: Spectra Version: 1.10.3 Command: rm -rf Spectra.buildbin-libdir && mkdir Spectra.buildbin-libdir && /Users/biocbuild/BBS/utils/build-universal.sh Spectra_1.10.3.tar.gz /Library/Frameworks/R.framework/Resources/bin/R Spectra.buildbin-libdir StartedAt: 2023-10-16 10:17:08 -0400 (Mon, 16 Oct 2023) EndedAt: 2023-10-16 10:18:00 -0400 (Mon, 16 Oct 2023) EllapsedTime: 51.5 seconds RetCode: 0 Status: OK PackageFile: Spectra_1.10.3.tgz PackageFileSize: 1.666 MiB