Package: SpatialOmicsOverlay Version: 1.0.0 Command: F:\biocbuild\bbs-3.17-bioc\R\bin\R.exe CMD INSTALL SpatialOmicsOverlay StartedAt: 2023-10-15 16:34:57 -0400 (Sun, 15 Oct 2023) EndedAt: 2023-10-15 16:35:38 -0400 (Sun, 15 Oct 2023) EllapsedTime: 40.6 seconds RetCode: 0 Status: OK