Package: SpatialOmicsOverlay Version: 1.0.0 Command: chmod a+r SpatialOmicsOverlay -R && F:\biocbuild\bbs-3.17-bioc\R\bin\R.exe CMD build --keep-empty-dirs --no-resave-data SpatialOmicsOverlay StartedAt: 2023-10-15 22:33:46 -0400 (Sun, 15 Oct 2023) EndedAt: 2023-10-15 22:42:05 -0400 (Sun, 15 Oct 2023) EllapsedTime: 499.1 seconds RetCode: 0 Status: OK PackageFile: SpatialOmicsOverlay_1.0.0.tar.gz PackageFileSize: 3.075 MiB