Package: SpatialOmicsOverlay Version: 1.0.0 Command: rm -rf SpatialOmicsOverlay.buildbin-libdir && mkdir SpatialOmicsOverlay.buildbin-libdir && F:\biocbuild\bbs-3.17-bioc\R\bin\R.exe CMD INSTALL --build --library=SpatialOmicsOverlay.buildbin-libdir SpatialOmicsOverlay_1.0.0.tar.gz StartedAt: 2023-10-16 09:35:21 -0400 (Mon, 16 Oct 2023) EndedAt: 2023-10-16 09:36:01 -0400 (Mon, 16 Oct 2023) EllapsedTime: 40.2 seconds RetCode: 0 Status: OK PackageFile: SpatialOmicsOverlay_1.0.0.zip PackageFileSize: 2.81 MiB