Package: SpatialOmicsOverlay Version: 1.0.0 Command: /home/biocbuild/bbs-3.17-bioc/R/bin/R CMD INSTALL SpatialOmicsOverlay StartedAt: 2023-10-15 15:33:24 -0400 (Sun, 15 Oct 2023) EndedAt: 2023-10-15 15:33:53 -0400 (Sun, 15 Oct 2023) EllapsedTime: 28.9 seconds RetCode: 0 Status: OK