Package: SpatialOmicsOverlay Version: 1.0.0 Command: /home/biocbuild/bbs-3.17-bioc/R/bin/R CMD check --install=check:SpatialOmicsOverlay.install-out.txt --library=/home/biocbuild/bbs-3.17-bioc/R/site-library --timings SpatialOmicsOverlay_1.0.0.tar.gz StartedAt: 2023-10-16 01:19:18 -0400 (Mon, 16 Oct 2023) EndedAt: 2023-10-16 01:35:38 -0400 (Mon, 16 Oct 2023) EllapsedTime: 980.2 seconds RetCode: 0 Status: OK CheckDir: SpatialOmicsOverlay.Rcheck Warnings: 0