Package: SpatialOmicsOverlay Version: 1.0.0 Command: /home/biocbuild/bbs-3.17-bioc/R/bin/R CMD build --keep-empty-dirs --no-resave-data SpatialOmicsOverlay StartedAt: 2023-10-15 18:37:38 -0400 (Sun, 15 Oct 2023) EndedAt: 2023-10-15 18:45:36 -0400 (Sun, 15 Oct 2023) EllapsedTime: 477.6 seconds RetCode: 0 Status: OK PackageFile: SpatialOmicsOverlay_1.0.0.tar.gz PackageFileSize: 3.12 MiB