Package: SpatialOmicsOverlay Version: 1.0.0 Command: /Library/Frameworks/R.framework/Resources/bin/R CMD INSTALL SpatialOmicsOverlay StartedAt: 2023-10-15 15:56:55 -0400 (Sun, 15 Oct 2023) EndedAt: 2023-10-15 15:58:35 -0400 (Sun, 15 Oct 2023) EllapsedTime: 99.9 seconds RetCode: 0 Status: OK