Package: SpatialOmicsOverlay Version: 1.0.0 Command: /Library/Frameworks/R.framework/Resources/bin/R CMD build --keep-empty-dirs --no-resave-data SpatialOmicsOverlay StartedAt: 2023-10-15 21:33:41 -0400 (Sun, 15 Oct 2023) EndedAt: 2023-10-15 21:54:13 -0400 (Sun, 15 Oct 2023) EllapsedTime: 1232.1 seconds RetCode: 0 Status: OK PackageFile: SpatialOmicsOverlay_1.0.0.tar.gz PackageFileSize: 3.128 MiB