Package: SpatialOmicsOverlay Version: 1.0.0 Command: rm -rf SpatialOmicsOverlay.buildbin-libdir && mkdir SpatialOmicsOverlay.buildbin-libdir && /Users/biocbuild/BBS/utils/build-universal.sh SpatialOmicsOverlay_1.0.0.tar.gz /Library/Frameworks/R.framework/Resources/bin/R SpatialOmicsOverlay.buildbin-libdir StartedAt: 2023-10-16 10:16:38 -0400 (Mon, 16 Oct 2023) EndedAt: 2023-10-16 10:18:21 -0400 (Mon, 16 Oct 2023) EllapsedTime: 102.4 seconds RetCode: 0 Status: OK PackageFile: SpatialOmicsOverlay_1.0.0.tgz PackageFileSize: 2.858 MiB