Package: SpatialExperiment Version: 1.10.0 Command: F:\biocbuild\bbs-3.17-bioc\R\bin\R.exe CMD INSTALL SpatialExperiment StartedAt: 2023-10-15 16:14:57 -0400 (Sun, 15 Oct 2023) EndedAt: 2023-10-15 16:15:38 -0400 (Sun, 15 Oct 2023) EllapsedTime: 40.6 seconds RetCode: 0 Status: OK