Package: SpatialExperiment Version: 1.10.0 Command: chmod a+r SpatialExperiment -R && F:\biocbuild\bbs-3.17-bioc\R\bin\R.exe CMD build --keep-empty-dirs --no-resave-data SpatialExperiment StartedAt: 2023-10-15 22:32:29 -0400 (Sun, 15 Oct 2023) EndedAt: 2023-10-15 22:33:45 -0400 (Sun, 15 Oct 2023) EllapsedTime: 76.1 seconds RetCode: 0 Status: OK PackageFile: SpatialExperiment_1.10.0.tar.gz PackageFileSize: 5.235 MiB