Package: SpatialExperiment Version: 1.10.0 Command: rm -rf SpatialExperiment.buildbin-libdir && mkdir SpatialExperiment.buildbin-libdir && F:\biocbuild\bbs-3.17-bioc\R\bin\R.exe CMD INSTALL --build --library=SpatialExperiment.buildbin-libdir SpatialExperiment_1.10.0.tar.gz StartedAt: 2023-10-16 09:35:12 -0400 (Mon, 16 Oct 2023) EndedAt: 2023-10-16 09:35:54 -0400 (Mon, 16 Oct 2023) EllapsedTime: 41.8 seconds RetCode: 0 Status: OK PackageFile: SpatialExperiment_1.10.0.zip PackageFileSize: 5.565 MiB