Package: SpatialExperiment Version: 1.10.0 Command: /Library/Frameworks/R.framework/Resources/bin/R CMD INSTALL SpatialExperiment StartedAt: 2023-10-15 15:36:57 -0400 (Sun, 15 Oct 2023) EndedAt: 2023-10-15 15:38:29 -0400 (Sun, 15 Oct 2023) EllapsedTime: 92.0 seconds RetCode: 0 Status: OK