Package: SpatialExperiment Version: 1.10.0 Command: /Library/Frameworks/R.framework/Resources/bin/R CMD check --install=check:SpatialExperiment.install-out.txt --library=/Library/Frameworks/R.framework/Resources/library --no-vignettes --timings SpatialExperiment_1.10.0.tar.gz StartedAt: 2023-10-16 07:25:39 -0400 (Mon, 16 Oct 2023) EndedAt: 2023-10-16 07:36:19 -0400 (Mon, 16 Oct 2023) EllapsedTime: 640.1 seconds RetCode: 0 Status: OK CheckDir: SpatialExperiment.Rcheck Warnings: 0