Package: SpatialExperiment Version: 1.10.0 Command: rm -rf SpatialExperiment.buildbin-libdir && mkdir SpatialExperiment.buildbin-libdir && /Users/biocbuild/BBS/utils/build-universal.sh SpatialExperiment_1.10.0.tar.gz /Library/Frameworks/R.framework/Resources/bin/R SpatialExperiment.buildbin-libdir StartedAt: 2023-10-16 10:16:33 -0400 (Mon, 16 Oct 2023) EndedAt: 2023-10-16 10:18:08 -0400 (Mon, 16 Oct 2023) EllapsedTime: 95.0 seconds RetCode: 0 Status: OK PackageFile: SpatialExperiment_1.10.0.tgz PackageFileSize: 5.484 MiB