Package: SpatialDecon Version: 1.10.0 Command: /Library/Frameworks/R.framework/Resources/bin/R CMD INSTALL SpatialDecon StartedAt: 2023-10-15 15:56:49 -0400 (Sun, 15 Oct 2023) EndedAt: 2023-10-15 15:58:03 -0400 (Sun, 15 Oct 2023) EllapsedTime: 74.9 seconds RetCode: 0 Status: OK