Package: SpatialDecon Version: 1.10.0 Command: rm -rf SpatialDecon.buildbin-libdir && mkdir SpatialDecon.buildbin-libdir && /Users/biocbuild/BBS/utils/build-universal.sh SpatialDecon_1.10.0.tar.gz /Library/Frameworks/R.framework/Resources/bin/R SpatialDecon.buildbin-libdir StartedAt: 2023-10-16 10:16:29 -0400 (Mon, 16 Oct 2023) EndedAt: 2023-10-16 10:17:49 -0400 (Mon, 16 Oct 2023) EllapsedTime: 79.5 seconds RetCode: 0 Status: OK PackageFile: SpatialDecon_1.10.0.tgz PackageFileSize: 4.319 MiB