Package: SpatialCPie Version: 1.16.0 Command: F:\biocbuild\bbs-3.17-bioc\R\bin\R.exe CMD check --no-multiarch --install=check:SpatialCPie.install-out.txt --library=F:\biocbuild\bbs-3.17-bioc\R\library --no-vignettes --timings SpatialCPie_1.16.0.tar.gz StartedAt: 2023-10-16 07:05:52 -0400 (Mon, 16 Oct 2023) EndedAt: 2023-10-16 07:08:27 -0400 (Mon, 16 Oct 2023) EllapsedTime: 155.6 seconds RetCode: 0 Status: OK CheckDir: SpatialCPie.Rcheck Warnings: 0