Package: SpatialCPie Version: 1.16.0 Command: rm -rf SpatialCPie.buildbin-libdir && mkdir SpatialCPie.buildbin-libdir && F:\biocbuild\bbs-3.17-bioc\R\bin\R.exe CMD INSTALL --build --library=SpatialCPie.buildbin-libdir SpatialCPie_1.16.0.tar.gz StartedAt: 2023-10-16 09:34:59 -0400 (Mon, 16 Oct 2023) EndedAt: 2023-10-16 09:35:30 -0400 (Mon, 16 Oct 2023) EllapsedTime: 31.2 seconds RetCode: 0 Status: OK PackageFile: SpatialCPie_1.16.0.zip PackageFileSize: 1.059 MiB