Package: SparseSignatures Version: 2.10.0 Command: F:\biocbuild\bbs-3.17-bioc\R\bin\R.exe CMD INSTALL SparseSignatures StartedAt: 2023-10-15 16:16:45 -0400 (Sun, 15 Oct 2023) EndedAt: 2023-10-15 16:17:25 -0400 (Sun, 15 Oct 2023) EllapsedTime: 40.6 seconds RetCode: 0 Status: OK