Package: SparseSignatures Version: 2.10.0 Command: F:\biocbuild\bbs-3.17-bioc\R\bin\R.exe CMD check --no-multiarch --install=check:SparseSignatures.install-out.txt --library=F:\biocbuild\bbs-3.17-bioc\R\library --no-vignettes --timings SparseSignatures_2.10.0.tar.gz StartedAt: 2023-10-16 07:05:36 -0400 (Mon, 16 Oct 2023) EndedAt: 2023-10-16 07:12:37 -0400 (Mon, 16 Oct 2023) EllapsedTime: 421.1 seconds RetCode: 0 Status: OK CheckDir: SparseSignatures.Rcheck Warnings: 0