Package: SparseSignatures Version: 2.10.0 Command: chmod a+r SparseSignatures -R && F:\biocbuild\bbs-3.17-bioc\R\bin\R.exe CMD build --keep-empty-dirs --no-resave-data SparseSignatures StartedAt: 2023-10-15 22:32:13 -0400 (Sun, 15 Oct 2023) EndedAt: 2023-10-15 22:37:53 -0400 (Sun, 15 Oct 2023) EllapsedTime: 339.8 seconds RetCode: 0 Status: OK PackageFile: SparseSignatures_2.10.0.tar.gz PackageFileSize: 1.375 MiB