Package: SparseSignatures Version: 2.10.0 Command: rm -rf SparseSignatures.buildbin-libdir && mkdir SparseSignatures.buildbin-libdir && F:\biocbuild\bbs-3.17-bioc\R\bin\R.exe CMD INSTALL --build --library=SparseSignatures.buildbin-libdir SparseSignatures_2.10.0.tar.gz StartedAt: 2023-10-16 09:34:51 -0400 (Mon, 16 Oct 2023) EndedAt: 2023-10-16 09:35:43 -0400 (Mon, 16 Oct 2023) EllapsedTime: 52.0 seconds RetCode: 0 Status: OK PackageFile: SparseSignatures_2.10.0.zip PackageFileSize: 1.507 MiB