Package: SparseSignatures Version: 2.10.0 Command: /Library/Frameworks/R.framework/Resources/bin/R CMD INSTALL SparseSignatures StartedAt: 2023-10-15 15:42:07 -0400 (Sun, 15 Oct 2023) EndedAt: 2023-10-15 15:44:01 -0400 (Sun, 15 Oct 2023) EllapsedTime: 113.8 seconds RetCode: 0 Status: OK