Package: SparseSignatures Version: 2.10.0 Command: /Library/Frameworks/R.framework/Resources/bin/R CMD check --install=check:SparseSignatures.install-out.txt --library=/Library/Frameworks/R.framework/Resources/library --no-vignettes --timings SparseSignatures_2.10.0.tar.gz StartedAt: 2023-10-16 07:24:17 -0400 (Mon, 16 Oct 2023) EndedAt: 2023-10-16 07:46:50 -0400 (Mon, 16 Oct 2023) EllapsedTime: 1353.2 seconds RetCode: 0 Status: OK CheckDir: SparseSignatures.Rcheck Warnings: 0