Package: SparseSignatures Version: 2.10.0 Command: rm -rf SparseSignatures.buildbin-libdir && mkdir SparseSignatures.buildbin-libdir && /Users/biocbuild/BBS/utils/build-universal.sh SparseSignatures_2.10.0.tar.gz /Library/Frameworks/R.framework/Resources/bin/R SparseSignatures.buildbin-libdir StartedAt: 2023-10-16 10:16:21 -0400 (Mon, 16 Oct 2023) EndedAt: 2023-10-16 10:18:18 -0400 (Mon, 16 Oct 2023) EllapsedTime: 116.6 seconds RetCode: 0 Status: OK PackageFile: SparseSignatures_2.10.0.tgz PackageFileSize: 1.575 MiB