Package: SparseArray Version: 1.0.12 Command: F:\biocbuild\bbs-3.17-bioc\R\bin\R.exe CMD INSTALL SparseArray StartedAt: 2023-10-15 15:54:25 -0400 (Sun, 15 Oct 2023) EndedAt: 2023-10-15 15:55:15 -0400 (Sun, 15 Oct 2023) EllapsedTime: 50.3 seconds RetCode: 0 Status: OK