Package: SparseArray Version: 1.0.12 Command: /home/biocbuild/bbs-3.17-bioc/R/bin/R CMD INSTALL SparseArray StartedAt: 2023-10-15 15:10:31 -0400 (Sun, 15 Oct 2023) EndedAt: 2023-10-15 15:11:01 -0400 (Sun, 15 Oct 2023) EllapsedTime: 29.7 seconds RetCode: 0 Status: OK