Package: SparseArray Version: 1.0.12 Command: /Library/Frameworks/R.framework/Resources/bin/R CMD INSTALL SparseArray StartedAt: 2023-10-15 15:10:28 -0400 (Sun, 15 Oct 2023) EndedAt: 2023-10-15 15:11:25 -0400 (Sun, 15 Oct 2023) EllapsedTime: 57.6 seconds RetCode: 0 Status: OK