Package: SparseArray Version: 1.0.12 Command: /Library/Frameworks/R.framework/Resources/bin/R CMD check --install=check:SparseArray.install-out.txt --library=/Library/Frameworks/R.framework/Resources/library --no-vignettes --timings SparseArray_1.0.12.tar.gz StartedAt: 2023-10-16 07:23:24 -0400 (Mon, 16 Oct 2023) EndedAt: 2023-10-16 07:30:06 -0400 (Mon, 16 Oct 2023) EllapsedTime: 402.5 seconds RetCode: 0 Status: OK CheckDir: SparseArray.Rcheck Warnings: 0